BEGIN:VCALENDAR
METHOD:PUBLISH
VERSION:2.0
PRODID:-//IGD//IGD//IT
BEGIN:VEVENT
SUMMARY:European MidCap Event 2025
UID:65548
DTSTART:20250929T220000Z
DTEND:20250929T220000Z
LAST-MODIFIED:20250724T000000Z
LOCATION:Paris
END:VEVENT
END:VCALENDAR