BEGIN:VCALENDAR
METHOD:PUBLISH
VERSION:2.0
PRODID:-//IGD//IGD//IT
BEGIN:VEVENT
SUMMARY:EPRA Conference 2025
UID:65543
DTSTART:20250915T220000Z
DTEND:20250915T220000Z
LAST-MODIFIED:20250917T000000Z
LOCATION:Stockholm
END:VEVENT
BEGIN:VEVENT
SUMMARY:EPRA Conference 2025
UID:65543
DTSTART:20250916T220000Z
DTEND:20250916T220000Z
LAST-MODIFIED:20250917T000000Z
LOCATION:Stockholm
END:VEVENT
BEGIN:VEVENT
SUMMARY:EPRA Conference 2025
UID:65543
DTSTART:20250917T220000Z
DTEND:20250917T220000Z
LAST-MODIFIED:20250917T000000Z
LOCATION:Stockholm
END:VEVENT
END:VCALENDAR