BEGIN:VCALENDAR
METHOD:PUBLISH
VERSION:2.0
PRODID:-//IGD//IGD//IT
BEGIN:VEVENT
SUMMARY:European Real Estate Equity and Debt Conference 2025
UID:65538
DTSTART:20250914T220000Z
DTEND:20250914T220000Z
LAST-MODIFIED:20250724T000000Z
LOCATION:London
END:VEVENT
END:VCALENDAR