BEGIN:VCALENDAR
METHOD:PUBLISH
VERSION:2.0
PRODID:-//IGD//IGD//IT
BEGIN:VEVENT
SUMMARY:Virtual Euronext Sustainability Week 2025 &#8211; Investor Conference
UID:65533
DTSTART:20250908T220000Z
DTEND:20250908T220000Z
LAST-MODIFIED:20250724T000000Z
LOCATION:
END:VEVENT
BEGIN:VEVENT
SUMMARY:Virtual Euronext Sustainability Week 2025 &#8211; Investor Conference
UID:65533
DTSTART:20250909T220000Z
DTEND:20250909T220000Z
LAST-MODIFIED:20250724T000000Z
LOCATION:
END:VEVENT
BEGIN:VEVENT
SUMMARY:Virtual Euronext Sustainability Week 2025 &#8211; Investor Conference
UID:65533
DTSTART:20250910T220000Z
DTEND:20250910T220000Z
LAST-MODIFIED:20250724T000000Z
LOCATION:
END:VEVENT
END:VCALENDAR