BEGIN:VCALENDAR
METHOD:PUBLISH
VERSION:2.0
PRODID:-//IGD//IGD//IT
BEGIN:VEVENT
SUMMARY:Mid&#038;Small Virtual 2025
UID:65398
DTSTART:20250702T220000Z
DTEND:20250702T220000Z
LAST-MODIFIED:20250701T000000Z
LOCATION:
END:VEVENT
END:VCALENDAR