BEGIN:VCALENDAR
METHOD:PUBLISH
VERSION:2.0
PRODID:-//IGD//IGD//IT
BEGIN:VEVENT
SUMMARY:Mid &#038; Small | Paris 2025 conference
UID:64952
DTSTART:20250519T220000Z
DTEND:20250519T220000Z
LAST-MODIFIED:20250520T000000Z
LOCATION:Paris
END:VEVENT
END:VCALENDAR