BEGIN:VCALENDAR
METHOD:PUBLISH
VERSION:2.0
PRODID:-//IGD//IGD//IT
BEGIN:VEVENT
SUMMARY:2025 dividend payment
UID:64422
DTSTART:20250513T220000Z
DTEND:20250513T220000Z
LAST-MODIFIED:20250417T000000Z
LOCATION:
END:VEVENT
END:VCALENDAR