BEGIN:VCALENDAR
METHOD:PUBLISH
VERSION:2.0
PRODID:-//IGD//IGD//IT
BEGIN:VEVENT
SUMMARY:Going ex-dividend 2025
UID:64420
DTSTART:20250511T220000Z
DTEND:20250511T220000Z
LAST-MODIFIED:20250417T000000Z
LOCATION:
END:VEVENT
END:VCALENDAR