BEGIN:VCALENDAR
METHOD:PUBLISH
VERSION:2.0
PRODID:-//IGD//IGD//IT
BEGIN:VEVENT
SUMMARY:MAPIC Cannes 2025
UID:61940
DTSTART:20251103T230000Z
DTEND:20251103T230000Z
LAST-MODIFIED:20250402T000000Z
LOCATION:Cannes, France
END:VEVENT
BEGIN:VEVENT
SUMMARY:MAPIC Cannes 2025
UID:61940
DTSTART:20251104T230000Z
DTEND:20251104T230000Z
LAST-MODIFIED:20250402T000000Z
LOCATION:Cannes, France
END:VEVENT
END:VCALENDAR