BEGIN:VCALENDAR
METHOD:PUBLISH
VERSION:2.0
PRODID:-//IGD//IGD//IT
BEGIN:VEVENT
SUMMARY:MAPIC Italy 2025
UID:61934
DTSTART:20250513T220000Z
DTEND:20250513T220000Z
LAST-MODIFIED:20250124T000000Z
LOCATION:Milan
END:VEVENT
BEGIN:VEVENT
SUMMARY:MAPIC Italy 2025
UID:61934
DTSTART:20250514T220000Z
DTEND:20250514T220000Z
LAST-MODIFIED:20250124T000000Z
LOCATION:Milan
END:VEVENT
END:VCALENDAR