BEGIN:VCALENDAR
METHOD:PUBLISH
VERSION:2.0
PRODID:-//IGD//IGD//IT
BEGIN:VEVENT
SUMMARY:Board of Directors of 11 November 2025
UID:61922
DTSTART:20251110T230000Z
DTEND:20251110T230000Z
LAST-MODIFIED:20250123T000000Z
LOCATION:Bologna
END:VEVENT
END:VCALENDAR