BEGIN:VCALENDAR
METHOD:PUBLISH
VERSION:2.0
PRODID:-//IGD//IGD//IT
BEGIN:VEVENT
SUMMARY:Board of Directors of 6 May 2025
UID:61914
DTSTART:20250505T220000Z
DTEND:20250505T220000Z
LAST-MODIFIED:20250123T000000Z
LOCATION:Bologna
END:VEVENT
END:VCALENDAR