BEGIN:VCALENDAR
METHOD:PUBLISH
VERSION:2.0
PRODID:-//IGD//IGD//IT
BEGIN:VEVENT
SUMMARY:Annual General Meeting of 16 April 2025 (first call)
UID:61910
DTSTART:20250415T220000Z
DTEND:20250415T220000Z
LAST-MODIFIED:20250314T000000Z
LOCATION:Bologna
END:VEVENT
END:VCALENDAR