BEGIN:VCALENDAR
METHOD:PUBLISH
VERSION:2.0
PRODID:-//IGD//IGD//IT
BEGIN:VEVENT
SUMMARY:Board of Directors of 6 March 2025
UID:61906
DTSTART:20250305T230000Z
DTEND:20250305T230000Z
LAST-MODIFIED:20250123T000000Z
LOCATION:Bologna
END:VEVENT
END:VCALENDAR