BEGIN:VCALENDAR
METHOD:PUBLISH
VERSION:2.0
PRODID:-//IGD//IGD//IT
BEGIN:VEVENT
SUMMARY:Euronext STAR Conference 2025 – Borsa Italiana
UID:59765
DTSTART:20250325T230000Z
DTEND:20250325T230000Z
LAST-MODIFIED:20250110T000000Z
LOCATION:Milan
END:VEVENT
END:VCALENDAR