BEGIN:VCALENDAR
METHOD:PUBLISH
VERSION:2.0
PRODID:-//IGD//IGD//IT
BEGIN:VEVENT
SUMMARY:Italian Mid Cap Conference Mediobanca
UID:59756
DTSTART:20250128T230000Z
DTEND:20250128T230000Z
LAST-MODIFIED:20250129T000000Z
LOCATION:Milan
END:VEVENT
END:VCALENDAR