BEGIN:VCALENDAR
METHOD:PUBLISH
VERSION:2.0
PRODID:-//IGD//IGD//IT
BEGIN:VEVENT
SUMMARY:Appuntamento alle colonne &#8211; Credit Focus
UID:59136
DTSTART:20241119T230000Z
DTEND:20241119T230000Z
LAST-MODIFIED:20241114T000000Z
LOCATION:Milan
END:VEVENT
END:VCALENDAR