BEGIN:VCALENDAR
METHOD:PUBLISH
VERSION:2.0
PRODID:-//IGD//IGD//IT
BEGIN:VEVENT
SUMMARY:Presentation of the 2025-2027 Business Plan
UID:59054
DTSTART:20241121T090000Z
DTEND:20241121T090000Z
LAST-MODIFIED:20241121T000000Z
LOCATION:Milan
END:VEVENT
END:VCALENDAR