BEGIN:VCALENDAR
METHOD:PUBLISH
VERSION:2.0
PRODID:-//IGD//IGD//IT
BEGIN:VEVENT
SUMMARY:Mid &#038; Small 2024 Conference
UID:58843
DTSTART:20241202T230000Z
DTEND:20241202T230000Z
LAST-MODIFIED:20241028T000000Z
LOCATION:Milan
END:VEVENT
END:VCALENDAR