BEGIN:VCALENDAR
METHOD:PUBLISH
VERSION:2.0
PRODID:-//IGD//IGD//IT
BEGIN:VEVENT
SUMMARY:Conference call to present the results as at 30 September 2024 – dial-in details
UID:58838
DTSTART:20241106T230000Z
DTEND:20241106T230000Z
LAST-MODIFIED:20241107T000000Z
LOCATION:
END:VEVENT
END:VCALENDAR