BEGIN:VCALENDAR
METHOD:PUBLISH
VERSION:2.0
PRODID:-//IGD//IGD//IT
BEGIN:VEVENT
SUMMARY:Conference call to present the results as at 30 June 2024 – dial-in details
UID:57394
DTSTART:20240731T220000Z
DTEND:20240731T220000Z
LAST-MODIFIED:20240802T000000Z
LOCATION:
END:VEVENT
END:VCALENDAR