BEGIN:VCALENDAR
METHOD:PUBLISH
VERSION:2.0
PRODID:-//IGD//IGD//IT
BEGIN:VEVENT
SUMMARY:2024 Italian Excellences Mid Corporate Conference
UID:57202
DTSTART:20241008T220000Z
DTEND:20241008T220000Z
LAST-MODIFIED:20240708T000000Z
LOCATION:Paris
END:VEVENT
END:VCALENDAR