BEGIN:VCALENDAR
METHOD:PUBLISH
VERSION:2.0
PRODID:-//IGD//IGD//IT
BEGIN:VEVENT
SUMMARY:Euronext Sustainability Week 2024 &#8211; Investor Conference
UID:57198
DTSTART:20240908T220000Z
DTEND:20240908T220000Z
LAST-MODIFIED:20240708T000000Z
LOCATION:
END:VEVENT
BEGIN:VEVENT
SUMMARY:Euronext Sustainability Week 2024 &#8211; Investor Conference
UID:57198
DTSTART:20240909T220000Z
DTEND:20240909T220000Z
LAST-MODIFIED:20240708T000000Z
LOCATION:
END:VEVENT
BEGIN:VEVENT
SUMMARY:Euronext Sustainability Week 2024 &#8211; Investor Conference
UID:57198
DTSTART:20240910T220000Z
DTEND:20240910T220000Z
LAST-MODIFIED:20240708T000000Z
LOCATION:
END:VEVENT
END:VCALENDAR