BEGIN:VCALENDAR
METHOD:PUBLISH
VERSION:2.0
PRODID:-//IGD//IGD//IT
BEGIN:VEVENT
SUMMARY:2024 EPRA Conference
UID:57067
DTSTART:20240917T220000Z
DTEND:20240917T220000Z
LAST-MODIFIED:20240716T000000Z
LOCATION:Berlin
END:VEVENT
BEGIN:VEVENT
SUMMARY:2024 EPRA Conference
UID:57067
DTSTART:20240918T220000Z
DTEND:20240918T220000Z
LAST-MODIFIED:20240716T000000Z
LOCATION:Berlin
END:VEVENT
END:VCALENDAR