BEGIN:VCALENDAR
METHOD:PUBLISH
VERSION:2.0
PRODID:-//IGD//IGD//IT
BEGIN:VEVENT
SUMMARY:Presentation of the 2025-2027 Business Plan Guidelines
UID:56968
DTSTART:20240703T220000Z
DTEND:20240703T220000Z
LAST-MODIFIED:20240704T000000Z
LOCATION:
END:VEVENT
END:VCALENDAR