BEGIN:VCALENDAR
METHOD:PUBLISH
VERSION:2.0
PRODID:-//IGD//IGD//IT
BEGIN:VEVENT
SUMMARY:MAPIC Italy 2024
UID:56088
DTSTART:20240521T220000Z
DTEND:20240521T220000Z
LAST-MODIFIED:20240521T000000Z
LOCATION:Milan
END:VEVENT
BEGIN:VEVENT
SUMMARY:MAPIC Italy 2024
UID:56088
DTSTART:20240522T220000Z
DTEND:20240522T220000Z
LAST-MODIFIED:20240521T000000Z
LOCATION:Milan
END:VEVENT
END:VCALENDAR