BEGIN:VCALENDAR
METHOD:PUBLISH
VERSION:2.0
PRODID:-//IGD//IGD//IT
BEGIN:VEVENT
SUMMARY:Citi&#8217;s London Real Estate Credit Investor Day 2024
UID:55791
DTSTART:20240514T220000Z
DTEND:20240514T220000Z
LAST-MODIFIED:20240513T000000Z
LOCATION:London
END:VEVENT
END:VCALENDAR