BEGIN:VCALENDAR
METHOD:PUBLISH
VERSION:2.0
PRODID:-//IGD//IGD//IT
BEGIN:VEVENT
SUMMARY:Conference call to present the results as at 31 March 2024 – dial-in details
UID:55229
DTSTART:20240506T220000Z
DTEND:20240506T220000Z
LAST-MODIFIED:20240430T000000Z
LOCATION:
END:VEVENT
END:VCALENDAR