BEGIN:VCALENDAR
METHOD:PUBLISH
VERSION:2.0
PRODID:-//IGD//IGD//IT
BEGIN:VEVENT
SUMMARY:Career Day 2024
UID:51902
DTSTART:20240220T230000Z
DTEND:20240220T230000Z
LAST-MODIFIED:20240209T000000Z
LOCATION:Bologna
END:VEVENT
END:VCALENDAR