BEGIN:VCALENDAR
METHOD:PUBLISH
VERSION:2.0
PRODID:-//IGD//IGD//IT
BEGIN:VEVENT
SUMMARY:Euronext STAR Conference 2024 – Borsa Italiana
UID:51891
DTSTART:20240319T230000Z
DTEND:20240319T230000Z
LAST-MODIFIED:20240206T000000Z
LOCATION:Milan
END:VEVENT
END:VCALENDAR