BEGIN:VCALENDAR
METHOD:PUBLISH
VERSION:2.0
PRODID:-//IGD//IGD//IT
BEGIN:VEVENT
SUMMARY:Blocking period October/November 2024
UID:51682
DTSTART:20241007T220000Z
DTEND:20241007T220000Z
LAST-MODIFIED:20231214T000000Z
LOCATION:
END:VEVENT
BEGIN:VEVENT
SUMMARY:Blocking period October/November 2024
UID:51682
DTSTART:20241008T220000Z
DTEND:20241008T220000Z
LAST-MODIFIED:20231214T000000Z
LOCATION:
END:VEVENT
BEGIN:VEVENT
SUMMARY:Blocking period October/November 2024
UID:51682
DTSTART:20241009T220000Z
DTEND:20241009T220000Z
LAST-MODIFIED:20231214T000000Z
LOCATION:
END:VEVENT
BEGIN:VEVENT
SUMMARY:Blocking period October/November 2024
UID:51682
DTSTART:20241010T220000Z
DTEND:20241010T220000Z
LAST-MODIFIED:20231214T000000Z
LOCATION:
END:VEVENT
BEGIN:VEVENT
SUMMARY:Blocking period October/November 2024
UID:51682
DTSTART:20241011T220000Z
DTEND:20241011T220000Z
LAST-MODIFIED:20231214T000000Z
LOCATION:
END:VEVENT
BEGIN:VEVENT
SUMMARY:Blocking period October/November 2024
UID:51682
DTSTART:20241012T220000Z
DTEND:20241012T220000Z
LAST-MODIFIED:20231214T000000Z
LOCATION:
END:VEVENT
BEGIN:VEVENT
SUMMARY:Blocking period October/November 2024
UID:51682
DTSTART:20241013T220000Z
DTEND:20241013T220000Z
LAST-MODIFIED:20231214T000000Z
LOCATION:
END:VEVENT
BEGIN:VEVENT
SUMMARY:Blocking period October/November 2024
UID:51682
DTSTART:20241014T220000Z
DTEND:20241014T220000Z
LAST-MODIFIED:20231214T000000Z
LOCATION:
END:VEVENT
BEGIN:VEVENT
SUMMARY:Blocking period October/November 2024
UID:51682
DTSTART:20241015T220000Z
DTEND:20241015T220000Z
LAST-MODIFIED:20231214T000000Z
LOCATION:
END:VEVENT
BEGIN:VEVENT
SUMMARY:Blocking period October/November 2024
UID:51682
DTSTART:20241016T220000Z
DTEND:20241016T220000Z
LAST-MODIFIED:20231214T000000Z
LOCATION:
END:VEVENT
BEGIN:VEVENT
SUMMARY:Blocking period October/November 2024
UID:51682
DTSTART:20241017T220000Z
DTEND:20241017T220000Z
LAST-MODIFIED:20231214T000000Z
LOCATION:
END:VEVENT
BEGIN:VEVENT
SUMMARY:Blocking period October/November 2024
UID:51682
DTSTART:20241018T220000Z
DTEND:20241018T220000Z
LAST-MODIFIED:20231214T000000Z
LOCATION:
END:VEVENT
BEGIN:VEVENT
SUMMARY:Blocking period October/November 2024
UID:51682
DTSTART:20241019T220000Z
DTEND:20241019T220000Z
LAST-MODIFIED:20231214T000000Z
LOCATION:
END:VEVENT
BEGIN:VEVENT
SUMMARY:Blocking period October/November 2024
UID:51682
DTSTART:20241020T220000Z
DTEND:20241020T220000Z
LAST-MODIFIED:20231214T000000Z
LOCATION:
END:VEVENT
BEGIN:VEVENT
SUMMARY:Blocking period October/November 2024
UID:51682
DTSTART:20241021T220000Z
DTEND:20241021T220000Z
LAST-MODIFIED:20231214T000000Z
LOCATION:
END:VEVENT
BEGIN:VEVENT
SUMMARY:Blocking period October/November 2024
UID:51682
DTSTART:20241022T220000Z
DTEND:20241022T220000Z
LAST-MODIFIED:20231214T000000Z
LOCATION:
END:VEVENT
BEGIN:VEVENT
SUMMARY:Blocking period October/November 2024
UID:51682
DTSTART:20241023T220000Z
DTEND:20241023T220000Z
LAST-MODIFIED:20231214T000000Z
LOCATION:
END:VEVENT
BEGIN:VEVENT
SUMMARY:Blocking period October/November 2024
UID:51682
DTSTART:20241024T220000Z
DTEND:20241024T220000Z
LAST-MODIFIED:20231214T000000Z
LOCATION:
END:VEVENT
BEGIN:VEVENT
SUMMARY:Blocking period October/November 2024
UID:51682
DTSTART:20241025T220000Z
DTEND:20241025T220000Z
LAST-MODIFIED:20231214T000000Z
LOCATION:
END:VEVENT
BEGIN:VEVENT
SUMMARY:Blocking period October/November 2024
UID:51682
DTSTART:20241026T220000Z
DTEND:20241026T220000Z
LAST-MODIFIED:20231214T000000Z
LOCATION:
END:VEVENT
BEGIN:VEVENT
SUMMARY:Blocking period October/November 2024
UID:51682
DTSTART:20241027T230000Z
DTEND:20241027T230000Z
LAST-MODIFIED:20231214T000000Z
LOCATION:
END:VEVENT
BEGIN:VEVENT
SUMMARY:Blocking period October/November 2024
UID:51682
DTSTART:20241028T230000Z
DTEND:20241028T230000Z
LAST-MODIFIED:20231214T000000Z
LOCATION:
END:VEVENT
BEGIN:VEVENT
SUMMARY:Blocking period October/November 2024
UID:51682
DTSTART:20241029T230000Z
DTEND:20241029T230000Z
LAST-MODIFIED:20231214T000000Z
LOCATION:
END:VEVENT
BEGIN:VEVENT
SUMMARY:Blocking period October/November 2024
UID:51682
DTSTART:20241030T230000Z
DTEND:20241030T230000Z
LAST-MODIFIED:20231214T000000Z
LOCATION:
END:VEVENT
BEGIN:VEVENT
SUMMARY:Blocking period October/November 2024
UID:51682
DTSTART:20241031T230000Z
DTEND:20241031T230000Z
LAST-MODIFIED:20231214T000000Z
LOCATION:
END:VEVENT
BEGIN:VEVENT
SUMMARY:Blocking period October/November 2024
UID:51682
DTSTART:20241101T230000Z
DTEND:20241101T230000Z
LAST-MODIFIED:20231214T000000Z
LOCATION:
END:VEVENT
BEGIN:VEVENT
SUMMARY:Blocking period October/November 2024
UID:51682
DTSTART:20241102T230000Z
DTEND:20241102T230000Z
LAST-MODIFIED:20231214T000000Z
LOCATION:
END:VEVENT
BEGIN:VEVENT
SUMMARY:Blocking period October/November 2024
UID:51682
DTSTART:20241103T230000Z
DTEND:20241103T230000Z
LAST-MODIFIED:20231214T000000Z
LOCATION:
END:VEVENT
BEGIN:VEVENT
SUMMARY:Blocking period October/November 2024
UID:51682
DTSTART:20241104T230000Z
DTEND:20241104T230000Z
LAST-MODIFIED:20231214T000000Z
LOCATION:
END:VEVENT
BEGIN:VEVENT
SUMMARY:Blocking period October/November 2024
UID:51682
DTSTART:20241105T230000Z
DTEND:20241105T230000Z
LAST-MODIFIED:20231214T000000Z
LOCATION:
END:VEVENT
END:VCALENDAR