BEGIN:VCALENDAR
METHOD:PUBLISH
VERSION:2.0
PRODID:-//IGD//IGD//IT
BEGIN:VEVENT
SUMMARY:Blocking period July 2024
UID:51676
DTSTART:20240701T220000Z
DTEND:20240701T220000Z
LAST-MODIFIED:20231214T000000Z
LOCATION:
END:VEVENT
BEGIN:VEVENT
SUMMARY:Blocking period July 2024
UID:51676
DTSTART:20240702T220000Z
DTEND:20240702T220000Z
LAST-MODIFIED:20231214T000000Z
LOCATION:
END:VEVENT
BEGIN:VEVENT
SUMMARY:Blocking period July 2024
UID:51676
DTSTART:20240703T220000Z
DTEND:20240703T220000Z
LAST-MODIFIED:20231214T000000Z
LOCATION:
END:VEVENT
BEGIN:VEVENT
SUMMARY:Blocking period July 2024
UID:51676
DTSTART:20240704T220000Z
DTEND:20240704T220000Z
LAST-MODIFIED:20231214T000000Z
LOCATION:
END:VEVENT
BEGIN:VEVENT
SUMMARY:Blocking period July 2024
UID:51676
DTSTART:20240705T220000Z
DTEND:20240705T220000Z
LAST-MODIFIED:20231214T000000Z
LOCATION:
END:VEVENT
BEGIN:VEVENT
SUMMARY:Blocking period July 2024
UID:51676
DTSTART:20240706T220000Z
DTEND:20240706T220000Z
LAST-MODIFIED:20231214T000000Z
LOCATION:
END:VEVENT
BEGIN:VEVENT
SUMMARY:Blocking period July 2024
UID:51676
DTSTART:20240707T220000Z
DTEND:20240707T220000Z
LAST-MODIFIED:20231214T000000Z
LOCATION:
END:VEVENT
BEGIN:VEVENT
SUMMARY:Blocking period July 2024
UID:51676
DTSTART:20240708T220000Z
DTEND:20240708T220000Z
LAST-MODIFIED:20231214T000000Z
LOCATION:
END:VEVENT
BEGIN:VEVENT
SUMMARY:Blocking period July 2024
UID:51676
DTSTART:20240709T220000Z
DTEND:20240709T220000Z
LAST-MODIFIED:20231214T000000Z
LOCATION:
END:VEVENT
BEGIN:VEVENT
SUMMARY:Blocking period July 2024
UID:51676
DTSTART:20240710T220000Z
DTEND:20240710T220000Z
LAST-MODIFIED:20231214T000000Z
LOCATION:
END:VEVENT
BEGIN:VEVENT
SUMMARY:Blocking period July 2024
UID:51676
DTSTART:20240711T220000Z
DTEND:20240711T220000Z
LAST-MODIFIED:20231214T000000Z
LOCATION:
END:VEVENT
BEGIN:VEVENT
SUMMARY:Blocking period July 2024
UID:51676
DTSTART:20240712T220000Z
DTEND:20240712T220000Z
LAST-MODIFIED:20231214T000000Z
LOCATION:
END:VEVENT
BEGIN:VEVENT
SUMMARY:Blocking period July 2024
UID:51676
DTSTART:20240713T220000Z
DTEND:20240713T220000Z
LAST-MODIFIED:20231214T000000Z
LOCATION:
END:VEVENT
BEGIN:VEVENT
SUMMARY:Blocking period July 2024
UID:51676
DTSTART:20240714T220000Z
DTEND:20240714T220000Z
LAST-MODIFIED:20231214T000000Z
LOCATION:
END:VEVENT
BEGIN:VEVENT
SUMMARY:Blocking period July 2024
UID:51676
DTSTART:20240715T220000Z
DTEND:20240715T220000Z
LAST-MODIFIED:20231214T000000Z
LOCATION:
END:VEVENT
BEGIN:VEVENT
SUMMARY:Blocking period July 2024
UID:51676
DTSTART:20240716T220000Z
DTEND:20240716T220000Z
LAST-MODIFIED:20231214T000000Z
LOCATION:
END:VEVENT
BEGIN:VEVENT
SUMMARY:Blocking period July 2024
UID:51676
DTSTART:20240717T220000Z
DTEND:20240717T220000Z
LAST-MODIFIED:20231214T000000Z
LOCATION:
END:VEVENT
BEGIN:VEVENT
SUMMARY:Blocking period July 2024
UID:51676
DTSTART:20240718T220000Z
DTEND:20240718T220000Z
LAST-MODIFIED:20231214T000000Z
LOCATION:
END:VEVENT
BEGIN:VEVENT
SUMMARY:Blocking period July 2024
UID:51676
DTSTART:20240719T220000Z
DTEND:20240719T220000Z
LAST-MODIFIED:20231214T000000Z
LOCATION:
END:VEVENT
BEGIN:VEVENT
SUMMARY:Blocking period July 2024
UID:51676
DTSTART:20240720T220000Z
DTEND:20240720T220000Z
LAST-MODIFIED:20231214T000000Z
LOCATION:
END:VEVENT
BEGIN:VEVENT
SUMMARY:Blocking period July 2024
UID:51676
DTSTART:20240721T220000Z
DTEND:20240721T220000Z
LAST-MODIFIED:20231214T000000Z
LOCATION:
END:VEVENT
BEGIN:VEVENT
SUMMARY:Blocking period July 2024
UID:51676
DTSTART:20240722T220000Z
DTEND:20240722T220000Z
LAST-MODIFIED:20231214T000000Z
LOCATION:
END:VEVENT
BEGIN:VEVENT
SUMMARY:Blocking period July 2024
UID:51676
DTSTART:20240723T220000Z
DTEND:20240723T220000Z
LAST-MODIFIED:20231214T000000Z
LOCATION:
END:VEVENT
BEGIN:VEVENT
SUMMARY:Blocking period July 2024
UID:51676
DTSTART:20240724T220000Z
DTEND:20240724T220000Z
LAST-MODIFIED:20231214T000000Z
LOCATION:
END:VEVENT
BEGIN:VEVENT
SUMMARY:Blocking period July 2024
UID:51676
DTSTART:20240725T220000Z
DTEND:20240725T220000Z
LAST-MODIFIED:20231214T000000Z
LOCATION:
END:VEVENT
BEGIN:VEVENT
SUMMARY:Blocking period July 2024
UID:51676
DTSTART:20240726T220000Z
DTEND:20240726T220000Z
LAST-MODIFIED:20231214T000000Z
LOCATION:
END:VEVENT
BEGIN:VEVENT
SUMMARY:Blocking period July 2024
UID:51676
DTSTART:20240727T220000Z
DTEND:20240727T220000Z
LAST-MODIFIED:20231214T000000Z
LOCATION:
END:VEVENT
BEGIN:VEVENT
SUMMARY:Blocking period July 2024
UID:51676
DTSTART:20240728T220000Z
DTEND:20240728T220000Z
LAST-MODIFIED:20231214T000000Z
LOCATION:
END:VEVENT
BEGIN:VEVENT
SUMMARY:Blocking period July 2024
UID:51676
DTSTART:20240729T220000Z
DTEND:20240729T220000Z
LAST-MODIFIED:20231214T000000Z
LOCATION:
END:VEVENT
BEGIN:VEVENT
SUMMARY:Blocking period July 2024
UID:51676
DTSTART:20240730T220000Z
DTEND:20240730T220000Z
LAST-MODIFIED:20231214T000000Z
LOCATION:
END:VEVENT
END:VCALENDAR