BEGIN:VCALENDAR
METHOD:PUBLISH
VERSION:2.0
PRODID:-//IGD//IGD//IT
BEGIN:VEVENT
SUMMARY:Blocking period April/May 2024
UID:51672
DTSTART:20240406T220000Z
DTEND:20240406T220000Z
LAST-MODIFIED:20231214T000000Z
LOCATION:
END:VEVENT
BEGIN:VEVENT
SUMMARY:Blocking period April/May 2024
UID:51672
DTSTART:20240407T220000Z
DTEND:20240407T220000Z
LAST-MODIFIED:20231214T000000Z
LOCATION:
END:VEVENT
BEGIN:VEVENT
SUMMARY:Blocking period April/May 2024
UID:51672
DTSTART:20240408T220000Z
DTEND:20240408T220000Z
LAST-MODIFIED:20231214T000000Z
LOCATION:
END:VEVENT
BEGIN:VEVENT
SUMMARY:Blocking period April/May 2024
UID:51672
DTSTART:20240409T220000Z
DTEND:20240409T220000Z
LAST-MODIFIED:20231214T000000Z
LOCATION:
END:VEVENT
BEGIN:VEVENT
SUMMARY:Blocking period April/May 2024
UID:51672
DTSTART:20240410T220000Z
DTEND:20240410T220000Z
LAST-MODIFIED:20231214T000000Z
LOCATION:
END:VEVENT
BEGIN:VEVENT
SUMMARY:Blocking period April/May 2024
UID:51672
DTSTART:20240411T220000Z
DTEND:20240411T220000Z
LAST-MODIFIED:20231214T000000Z
LOCATION:
END:VEVENT
BEGIN:VEVENT
SUMMARY:Blocking period April/May 2024
UID:51672
DTSTART:20240412T220000Z
DTEND:20240412T220000Z
LAST-MODIFIED:20231214T000000Z
LOCATION:
END:VEVENT
BEGIN:VEVENT
SUMMARY:Blocking period April/May 2024
UID:51672
DTSTART:20240413T220000Z
DTEND:20240413T220000Z
LAST-MODIFIED:20231214T000000Z
LOCATION:
END:VEVENT
BEGIN:VEVENT
SUMMARY:Blocking period April/May 2024
UID:51672
DTSTART:20240414T220000Z
DTEND:20240414T220000Z
LAST-MODIFIED:20231214T000000Z
LOCATION:
END:VEVENT
BEGIN:VEVENT
SUMMARY:Blocking period April/May 2024
UID:51672
DTSTART:20240415T220000Z
DTEND:20240415T220000Z
LAST-MODIFIED:20231214T000000Z
LOCATION:
END:VEVENT
BEGIN:VEVENT
SUMMARY:Blocking period April/May 2024
UID:51672
DTSTART:20240416T220000Z
DTEND:20240416T220000Z
LAST-MODIFIED:20231214T000000Z
LOCATION:
END:VEVENT
BEGIN:VEVENT
SUMMARY:Blocking period April/May 2024
UID:51672
DTSTART:20240417T220000Z
DTEND:20240417T220000Z
LAST-MODIFIED:20231214T000000Z
LOCATION:
END:VEVENT
BEGIN:VEVENT
SUMMARY:Blocking period April/May 2024
UID:51672
DTSTART:20240418T220000Z
DTEND:20240418T220000Z
LAST-MODIFIED:20231214T000000Z
LOCATION:
END:VEVENT
BEGIN:VEVENT
SUMMARY:Blocking period April/May 2024
UID:51672
DTSTART:20240419T220000Z
DTEND:20240419T220000Z
LAST-MODIFIED:20231214T000000Z
LOCATION:
END:VEVENT
BEGIN:VEVENT
SUMMARY:Blocking period April/May 2024
UID:51672
DTSTART:20240420T220000Z
DTEND:20240420T220000Z
LAST-MODIFIED:20231214T000000Z
LOCATION:
END:VEVENT
BEGIN:VEVENT
SUMMARY:Blocking period April/May 2024
UID:51672
DTSTART:20240421T220000Z
DTEND:20240421T220000Z
LAST-MODIFIED:20231214T000000Z
LOCATION:
END:VEVENT
BEGIN:VEVENT
SUMMARY:Blocking period April/May 2024
UID:51672
DTSTART:20240422T220000Z
DTEND:20240422T220000Z
LAST-MODIFIED:20231214T000000Z
LOCATION:
END:VEVENT
BEGIN:VEVENT
SUMMARY:Blocking period April/May 2024
UID:51672
DTSTART:20240423T220000Z
DTEND:20240423T220000Z
LAST-MODIFIED:20231214T000000Z
LOCATION:
END:VEVENT
BEGIN:VEVENT
SUMMARY:Blocking period April/May 2024
UID:51672
DTSTART:20240424T220000Z
DTEND:20240424T220000Z
LAST-MODIFIED:20231214T000000Z
LOCATION:
END:VEVENT
BEGIN:VEVENT
SUMMARY:Blocking period April/May 2024
UID:51672
DTSTART:20240425T220000Z
DTEND:20240425T220000Z
LAST-MODIFIED:20231214T000000Z
LOCATION:
END:VEVENT
BEGIN:VEVENT
SUMMARY:Blocking period April/May 2024
UID:51672
DTSTART:20240426T220000Z
DTEND:20240426T220000Z
LAST-MODIFIED:20231214T000000Z
LOCATION:
END:VEVENT
BEGIN:VEVENT
SUMMARY:Blocking period April/May 2024
UID:51672
DTSTART:20240427T220000Z
DTEND:20240427T220000Z
LAST-MODIFIED:20231214T000000Z
LOCATION:
END:VEVENT
BEGIN:VEVENT
SUMMARY:Blocking period April/May 2024
UID:51672
DTSTART:20240428T220000Z
DTEND:20240428T220000Z
LAST-MODIFIED:20231214T000000Z
LOCATION:
END:VEVENT
BEGIN:VEVENT
SUMMARY:Blocking period April/May 2024
UID:51672
DTSTART:20240429T220000Z
DTEND:20240429T220000Z
LAST-MODIFIED:20231214T000000Z
LOCATION:
END:VEVENT
BEGIN:VEVENT
SUMMARY:Blocking period April/May 2024
UID:51672
DTSTART:20240430T220000Z
DTEND:20240430T220000Z
LAST-MODIFIED:20231214T000000Z
LOCATION:
END:VEVENT
BEGIN:VEVENT
SUMMARY:Blocking period April/May 2024
UID:51672
DTSTART:20240501T220000Z
DTEND:20240501T220000Z
LAST-MODIFIED:20231214T000000Z
LOCATION:
END:VEVENT
BEGIN:VEVENT
SUMMARY:Blocking period April/May 2024
UID:51672
DTSTART:20240502T220000Z
DTEND:20240502T220000Z
LAST-MODIFIED:20231214T000000Z
LOCATION:
END:VEVENT
BEGIN:VEVENT
SUMMARY:Blocking period April/May 2024
UID:51672
DTSTART:20240503T220000Z
DTEND:20240503T220000Z
LAST-MODIFIED:20231214T000000Z
LOCATION:
END:VEVENT
BEGIN:VEVENT
SUMMARY:Blocking period April/May 2024
UID:51672
DTSTART:20240504T220000Z
DTEND:20240504T220000Z
LAST-MODIFIED:20231214T000000Z
LOCATION:
END:VEVENT
BEGIN:VEVENT
SUMMARY:Blocking period April/May 2024
UID:51672
DTSTART:20240505T220000Z
DTEND:20240505T220000Z
LAST-MODIFIED:20231214T000000Z
LOCATION:
END:VEVENT
END:VCALENDAR