BEGIN:VCALENDAR
METHOD:PUBLISH
VERSION:2.0
PRODID:-//IGD//IGD//IT
BEGIN:VEVENT
SUMMARY:Blocking period January/February 2024
UID:51668
DTSTART:20240127T230000Z
DTEND:20240127T230000Z
LAST-MODIFIED:20231214T000000Z
LOCATION:
END:VEVENT
BEGIN:VEVENT
SUMMARY:Blocking period January/February 2024
UID:51668
DTSTART:20240128T230000Z
DTEND:20240128T230000Z
LAST-MODIFIED:20231214T000000Z
LOCATION:
END:VEVENT
BEGIN:VEVENT
SUMMARY:Blocking period January/February 2024
UID:51668
DTSTART:20240129T230000Z
DTEND:20240129T230000Z
LAST-MODIFIED:20231214T000000Z
LOCATION:
END:VEVENT
BEGIN:VEVENT
SUMMARY:Blocking period January/February 2024
UID:51668
DTSTART:20240130T230000Z
DTEND:20240130T230000Z
LAST-MODIFIED:20231214T000000Z
LOCATION:
END:VEVENT
BEGIN:VEVENT
SUMMARY:Blocking period January/February 2024
UID:51668
DTSTART:20240131T230000Z
DTEND:20240131T230000Z
LAST-MODIFIED:20231214T000000Z
LOCATION:
END:VEVENT
BEGIN:VEVENT
SUMMARY:Blocking period January/February 2024
UID:51668
DTSTART:20240201T230000Z
DTEND:20240201T230000Z
LAST-MODIFIED:20231214T000000Z
LOCATION:
END:VEVENT
BEGIN:VEVENT
SUMMARY:Blocking period January/February 2024
UID:51668
DTSTART:20240202T230000Z
DTEND:20240202T230000Z
LAST-MODIFIED:20231214T000000Z
LOCATION:
END:VEVENT
BEGIN:VEVENT
SUMMARY:Blocking period January/February 2024
UID:51668
DTSTART:20240203T230000Z
DTEND:20240203T230000Z
LAST-MODIFIED:20231214T000000Z
LOCATION:
END:VEVENT
BEGIN:VEVENT
SUMMARY:Blocking period January/February 2024
UID:51668
DTSTART:20240204T230000Z
DTEND:20240204T230000Z
LAST-MODIFIED:20231214T000000Z
LOCATION:
END:VEVENT
BEGIN:VEVENT
SUMMARY:Blocking period January/February 2024
UID:51668
DTSTART:20240205T230000Z
DTEND:20240205T230000Z
LAST-MODIFIED:20231214T000000Z
LOCATION:
END:VEVENT
BEGIN:VEVENT
SUMMARY:Blocking period January/February 2024
UID:51668
DTSTART:20240206T230000Z
DTEND:20240206T230000Z
LAST-MODIFIED:20231214T000000Z
LOCATION:
END:VEVENT
BEGIN:VEVENT
SUMMARY:Blocking period January/February 2024
UID:51668
DTSTART:20240207T230000Z
DTEND:20240207T230000Z
LAST-MODIFIED:20231214T000000Z
LOCATION:
END:VEVENT
BEGIN:VEVENT
SUMMARY:Blocking period January/February 2024
UID:51668
DTSTART:20240208T230000Z
DTEND:20240208T230000Z
LAST-MODIFIED:20231214T000000Z
LOCATION:
END:VEVENT
BEGIN:VEVENT
SUMMARY:Blocking period January/February 2024
UID:51668
DTSTART:20240209T230000Z
DTEND:20240209T230000Z
LAST-MODIFIED:20231214T000000Z
LOCATION:
END:VEVENT
BEGIN:VEVENT
SUMMARY:Blocking period January/February 2024
UID:51668
DTSTART:20240210T230000Z
DTEND:20240210T230000Z
LAST-MODIFIED:20231214T000000Z
LOCATION:
END:VEVENT
BEGIN:VEVENT
SUMMARY:Blocking period January/February 2024
UID:51668
DTSTART:20240211T230000Z
DTEND:20240211T230000Z
LAST-MODIFIED:20231214T000000Z
LOCATION:
END:VEVENT
BEGIN:VEVENT
SUMMARY:Blocking period January/February 2024
UID:51668
DTSTART:20240212T230000Z
DTEND:20240212T230000Z
LAST-MODIFIED:20231214T000000Z
LOCATION:
END:VEVENT
BEGIN:VEVENT
SUMMARY:Blocking period January/February 2024
UID:51668
DTSTART:20240213T230000Z
DTEND:20240213T230000Z
LAST-MODIFIED:20231214T000000Z
LOCATION:
END:VEVENT
BEGIN:VEVENT
SUMMARY:Blocking period January/February 2024
UID:51668
DTSTART:20240214T230000Z
DTEND:20240214T230000Z
LAST-MODIFIED:20231214T000000Z
LOCATION:
END:VEVENT
BEGIN:VEVENT
SUMMARY:Blocking period January/February 2024
UID:51668
DTSTART:20240215T230000Z
DTEND:20240215T230000Z
LAST-MODIFIED:20231214T000000Z
LOCATION:
END:VEVENT
BEGIN:VEVENT
SUMMARY:Blocking period January/February 2024
UID:51668
DTSTART:20240216T230000Z
DTEND:20240216T230000Z
LAST-MODIFIED:20231214T000000Z
LOCATION:
END:VEVENT
BEGIN:VEVENT
SUMMARY:Blocking period January/February 2024
UID:51668
DTSTART:20240217T230000Z
DTEND:20240217T230000Z
LAST-MODIFIED:20231214T000000Z
LOCATION:
END:VEVENT
BEGIN:VEVENT
SUMMARY:Blocking period January/February 2024
UID:51668
DTSTART:20240218T230000Z
DTEND:20240218T230000Z
LAST-MODIFIED:20231214T000000Z
LOCATION:
END:VEVENT
BEGIN:VEVENT
SUMMARY:Blocking period January/February 2024
UID:51668
DTSTART:20240219T230000Z
DTEND:20240219T230000Z
LAST-MODIFIED:20231214T000000Z
LOCATION:
END:VEVENT
BEGIN:VEVENT
SUMMARY:Blocking period January/February 2024
UID:51668
DTSTART:20240220T230000Z
DTEND:20240220T230000Z
LAST-MODIFIED:20231214T000000Z
LOCATION:
END:VEVENT
BEGIN:VEVENT
SUMMARY:Blocking period January/February 2024
UID:51668
DTSTART:20240221T230000Z
DTEND:20240221T230000Z
LAST-MODIFIED:20231214T000000Z
LOCATION:
END:VEVENT
BEGIN:VEVENT
SUMMARY:Blocking period January/February 2024
UID:51668
DTSTART:20240222T230000Z
DTEND:20240222T230000Z
LAST-MODIFIED:20231214T000000Z
LOCATION:
END:VEVENT
BEGIN:VEVENT
SUMMARY:Blocking period January/February 2024
UID:51668
DTSTART:20240223T230000Z
DTEND:20240223T230000Z
LAST-MODIFIED:20231214T000000Z
LOCATION:
END:VEVENT
BEGIN:VEVENT
SUMMARY:Blocking period January/February 2024
UID:51668
DTSTART:20240224T230000Z
DTEND:20240224T230000Z
LAST-MODIFIED:20231214T000000Z
LOCATION:
END:VEVENT
BEGIN:VEVENT
SUMMARY:Blocking period January/February 2024
UID:51668
DTSTART:20240225T230000Z
DTEND:20240225T230000Z
LAST-MODIFIED:20231214T000000Z
LOCATION:
END:VEVENT
END:VCALENDAR