BEGIN:VCALENDAR
METHOD:PUBLISH
VERSION:2.0
PRODID:-//IGD//IGD//IT
BEGIN:VEVENT
SUMMARY:Italian Stock Exchange: closing day on 31 December 2024
UID:51663
DTSTART:20241230T230000Z
DTEND:20241230T230000Z
LAST-MODIFIED:20231214T000000Z
LOCATION:Milan
END:VEVENT
END:VCALENDAR