BEGIN:VCALENDAR
METHOD:PUBLISH
VERSION:2.0
PRODID:-//IGD//IGD//IT
BEGIN:VEVENT
SUMMARY:Italian Stock Exchange: closing days 24, 25 and 26 December 2024
UID:51659
DTSTART:20241223T230000Z
DTEND:20241223T230000Z
LAST-MODIFIED:20231214T000000Z
LOCATION:Milan
END:VEVENT
END:VCALENDAR