BEGIN:VCALENDAR
METHOD:PUBLISH
VERSION:2.0
PRODID:-//IGD//IGD//IT
BEGIN:VEVENT
SUMMARY:Italian Stock Exchange: closing day 1 May 2024
UID:51651
DTSTART:20240430T220000Z
DTEND:20240430T220000Z
LAST-MODIFIED:20231214T000000Z
LOCATION:Milan
END:VEVENT
END:VCALENDAR