BEGIN:VCALENDAR
METHOD:PUBLISH
VERSION:2.0
PRODID:-//IGD//IGD//IT
BEGIN:VEVENT
SUMMARY:Italian Stock Exchange: closing days from 29 March to 1 April 2024
UID:51647
DTSTART:20240328T230000Z
DTEND:20240328T230000Z
LAST-MODIFIED:20231214T000000Z
LOCATION:Milan
END:VEVENT
BEGIN:VEVENT
SUMMARY:Italian Stock Exchange: closing days from 29 March to 1 April 2024
UID:51647
DTSTART:20240329T230000Z
DTEND:20240329T230000Z
LAST-MODIFIED:20231214T000000Z
LOCATION:Milan
END:VEVENT
BEGIN:VEVENT
SUMMARY:Italian Stock Exchange: closing days from 29 March to 1 April 2024
UID:51647
DTSTART:20240330T230000Z
DTEND:20240330T230000Z
LAST-MODIFIED:20231214T000000Z
LOCATION:Milan
END:VEVENT
BEGIN:VEVENT
SUMMARY:Italian Stock Exchange: closing days from 29 March to 1 April 2024
UID:51647
DTSTART:20240331T220000Z
DTEND:20240331T220000Z
LAST-MODIFIED:20231214T000000Z
LOCATION:Milan
END:VEVENT
END:VCALENDAR