BEGIN:VCALENDAR
METHOD:PUBLISH
VERSION:2.0
PRODID:-//IGD//IGD//IT
BEGIN:VEVENT
SUMMARY:Italian Stock Exchange: closing day on 1 January 2024
UID:51643
DTSTART:20231231T230000Z
DTEND:20231231T230000Z
LAST-MODIFIED:20231214T000000Z
LOCATION:Milan
END:VEVENT
END:VCALENDAR