BEGIN:VCALENDAR
METHOD:PUBLISH
VERSION:2.0
PRODID:-//IGD//IGD//IT
BEGIN:VEVENT
SUMMARY:Board of Directors of 7 November 2024
UID:51639
DTSTART:20241106T230000Z
DTEND:20241106T230000Z
LAST-MODIFIED:20240805T000000Z
LOCATION:Bologna
END:VEVENT
END:VCALENDAR