BEGIN:VCALENDAR
METHOD:PUBLISH
VERSION:2.0
PRODID:-//IGD//IGD//IT
BEGIN:VEVENT
SUMMARY:Board of Directors of 1 August 2024
UID:51632
DTSTART:20240731T220000Z
DTEND:20240731T220000Z
LAST-MODIFIED:20240805T000000Z
LOCATION:Bologna
END:VEVENT
END:VCALENDAR