BEGIN:VCALENDAR
METHOD:PUBLISH
VERSION:2.0
PRODID:-//IGD//IGD//IT
BEGIN:VEVENT
SUMMARY:Board of Directors of 27 February 2024
UID:51620
DTSTART:20240226T230000Z
DTEND:20240226T230000Z
LAST-MODIFIED:20231213T000000Z
LOCATION:Bologna
END:VEVENT
END:VCALENDAR