BEGIN:VCALENDAR
METHOD:PUBLISH
VERSION:2.0
PRODID:-//IGD//IGD//IT
BEGIN:VEVENT
SUMMARY:Conference call to present the results as at 30 September 2023 – dial-in details
UID:50447
DTSTART:20231107T230000Z
DTEND:20231107T230000Z
LAST-MODIFIED:20231031T000000Z
LOCATION:
END:VEVENT
END:VCALENDAR