BEGIN:VCALENDAR
METHOD:PUBLISH
VERSION:2.0
PRODID:-//IGD//IGD//IT
BEGIN:VEVENT
SUMMARY:Mid&#038;Small in Milan Conference 2023
UID:50425
DTSTART:20231121T230000Z
DTEND:20231121T230000Z
LAST-MODIFIED:20231027T000000Z
LOCATION:Milan
END:VEVENT
END:VCALENDAR