BEGIN:VCALENDAR
METHOD:PUBLISH
VERSION:2.0
PRODID:-//IGD//IGD//IT
BEGIN:VEVENT
SUMMARY:Euronext Sustainability Week 2023
UID:48777
DTSTART:20230903T220000Z
DTEND:20230903T220000Z
LAST-MODIFIED:20230804T000000Z
LOCATION:
END:VEVENT
END:VCALENDAR