BEGIN:VCALENDAR
METHOD:PUBLISH
VERSION:2.0
PRODID:-//IGD//IGD//IT
BEGIN:VEVENT
SUMMARY:Morgan Stanley European Real Estate Capital Markets Conference 2023
UID:47935
DTSTART:20230613T220000Z
DTEND:20230613T220000Z
LAST-MODIFIED:20230613T000000Z
LOCATION:London
END:VEVENT
END:VCALENDAR