BEGIN:VCALENDAR
METHOD:PUBLISH
VERSION:2.0
PRODID:-//IGD//IGD//IT
BEGIN:VEVENT
SUMMARY:Roadshow with JP Morgan
UID:47931
DTSTART:20230612T220000Z
DTEND:20230612T220000Z
LAST-MODIFIED:20230613T000000Z
LOCATION:London
END:VEVENT
END:VCALENDAR