BEGIN:VCALENDAR
METHOD:PUBLISH
VERSION:2.0
PRODID:-//IGD//IGD//IT
BEGIN:VEVENT
SUMMARY:Conference call to present the results as at 31 March 2023 – dial-in details
UID:47391
DTSTART:20230503T220000Z
DTEND:20230503T220000Z
LAST-MODIFIED:20230504T000000Z
LOCATION:
END:VEVENT
END:VCALENDAR