BEGIN:VCALENDAR
METHOD:PUBLISH
VERSION:2.0
PRODID:-//IGD//IGD//IT
BEGIN:VEVENT
SUMMARY:Euronext STAR Conference 2023 – Borsa Italiana
UID:46607
DTSTART:20230321T230000Z
DTEND:20230321T230000Z
LAST-MODIFIED:20230313T000000Z
LOCATION:Milan
END:VEVENT
END:VCALENDAR