BEGIN:VCALENDAR
METHOD:PUBLISH
VERSION:2.0
PRODID:-//IGD//IGD//IT
BEGIN:VEVENT
SUMMARY:2023 dividend payment
UID:46452
DTSTART:20230509T220000Z
DTEND:20230509T220000Z
LAST-MODIFIED:20230308T000000Z
LOCATION:
END:VEVENT
END:VCALENDAR